BEGIN:VCALENDAR
PRODID:-//RMFA//WP 1.0//EN
VERSION:2.0
CALSCALE:GREGORIAN
BEGIN:VEVENT
DTSTAMP:20260425T025434Z
DTSTART;TZID=America/New_York:20211014T180000
DTEND;TZID=America/New_York:20211014T200000
SUMMARY:RMFA Event: Scott Kuckler
UID:17848409e9a04cfc861a540632a3b95c@rochestermfa.org
DESCRIPTION:https://www.rochestermfa.org/scott-kuckler/
LOCATION:150 Wakefield Street\nRochester\, NH 03867
BEGIN:VALARM
ACTION:DISPLAY
DESCRIPTION:Event reminder
TRIGGER:-P2D
END:VALARM
BEGIN:VALARM
ACTION:DISPLAY
DESCRIPTION:Event reminder
TRIGGER:-PT2H
END:VALARM
END:VEVENT
END:VCALENDAR
