BEGIN:VCALENDAR
PRODID:-//RMFA//WP 1.0//EN
VERSION:2.0
CALSCALE:GREGORIAN
BEGIN:VEVENT
DTSTAMP:20260422T162547Z
DTSTART;TZID=America/New_York:20230627T170000
DTEND;TZID=America/New_York:20230627T190000
SUMMARY:RMFA Event: Kristy Cavaretta
UID:8e5809cd847a4dce96f4ea3721c18f04@rochestermfa.org
DESCRIPTION:https://www.rochestermfa.org/kristy-cavaretta/
LOCATION:65 South Main Street\nRochester\, NH 03867
BEGIN:VALARM
ACTION:DISPLAY
DESCRIPTION:Event reminder
TRIGGER:-P2D
END:VALARM
BEGIN:VALARM
ACTION:DISPLAY
DESCRIPTION:Event reminder
TRIGGER:-PT2H
END:VALARM
END:VEVENT
END:VCALENDAR
